Workbook

Sheet Dados do Projeto
C5: Nome do Projeto
C6: Versão da Contagem
C7: Gerente de Projetos

Sheet Percentuais por Fase
A1: Produtividade (Horas / PF) | B1: 6
A2: Total de Pontos de Função
A3: Total de Horas do Projeto | B3: =B1*B2 -> 0
A6: Atividade | B6: Percentual | C6: Horas
A7: Gestão | B7: 0.1 | C7: =$B$3*B7 -> 0
A8: Análise | B8: 0.25 | C8: =$B$3*B8 -> 0
A9: Desenvolvimento | B9: 0.4 | C9: =$B$3*B9 -> 0
A10: Testes | B10: 0.1 | C10: =$B$3*B10 -> 0
A11: Implantação | B11: 0.05 | C11: =$B$3*B11 -> 0
A12: Treinamento | B12: 0.1 | C12: =$B$3*B12 -> 0
A13: Total | B13: =SUM(B7:B12) -> 1 | C13: =SUM(C7:C12) -> 0

Sheet Horas por Funcionalidade
A1: Horas Estimadas por Funcionalidade
A2: Funcionalidade | B2: PF | C2: Horas
B3: =SUM(B4:B136) -> 0 | C3: Gestão | D3: Análise | E3: Desenvolvimento | F3: Testes | G3: Implantação | H3: Treinamento | I3: Total
C4: =B4*'Percentuais por Fase'!$B$1*'Percentuais por Fase'!$B$7 -> 0 | D4: =B4*'Percentuais por Fase'!$B$1*'Percentuais por Fase'!$B$8 -> 0 | E4: =B4*'Percentuais por Fase'!$B$1*'Percentuais por Fase'!$B$9 -> 0 | F4: =B4*'Percentuais por Fase'!$B$1*'Percentuais por Fase'!$B$10 -> 0 | G4: =B4*'Percentuais por Fase'!$B$1*'Percentuais por Fase'!$B$11 -> 0 | H4: =B4*'Percentuais por Fase'!$B$1*'Percentuais por Fase'!$B$12 -> 0 | I4: =SUM(C4:H4) -> 0
C5: =B5*'Percentuais por Fase'!$B$1*'Percentuais por Fase'!$B$7 -> 0 | D5: =B5*'Percentuais por Fase'!$B$1*'Percentuais por Fase'!$B$8 -> 0 | E5: =B5*'Percentuais por Fase'!$B$1*'Percentuais por Fase'!$B$9 -> 0 | F5: =B5*'Percentuais por Fase'!$B$1*'Percentuais por Fase'!$B$10 -> 0 | G5: =B5*'Percentuais por Fase'!$B$1*'Percentuais por Fase'!$B$11 -> 0 | H5: =B5*'Percentuais por Fase'!$B$1*'Percentuais por Fase'!$B$12 -> 0 | I5: =SUM(C5:H5) -> 0
C6: =B6*'Percentuais por Fase'!$B$1*'Percentuais por Fase'!$B$7 -> 0 | D6: =B6*'Percentuais por Fase'!$B$1*'Percentuais por Fase'!$B$8 -> 0 | E6: =B6*'Percentuais por Fase'!$B$1*'Percentuais por Fase'!$B$9 -> 0 | F6: =B6*'Percentuais por Fase'!$B$1*'Percentuais por Fase'!$B$10 -> 0 | G6: =B6*'Percentuais por Fase'!$B$1*'Percentuais por Fase'!$B$11 -> 0 | H6: =B6*'Percentuais por Fase'!$B$1*'Percentuais por Fase'!$B$12 -> 0 | I6: =SUM(C6:H6) -> 0
C7: =B7*'Percentuais por Fase'!$B$1*'Percentuais por Fase'!$B$7 -> 0 | D7: =B7*'Percentuais por Fase'!$B$1*'Percentuais por Fase'!$B$8 -> 0 | E7: =B7*'Percentuais por Fase'!$B$1*'Percentuais por Fase'!$B$9 -> 0 | F7: =B7*'Percentuais por Fase'!$B$1*'Percentuais por Fase'!$B$10 -> 0 | G7: =B7*'Percentuais por Fase'!$B$1*'Percentuais por Fase'!$B$11 -> 0 | H7: =B7*'Percentuais por Fase'!$B$1*'Percentuais por Fase'!$B$12 -> 0 | I7: =SUM(C7:H7) -> 0
C8: =B8*'Percentuais por Fase'!$B$1*'Percentuais por Fase'!$B$7 -> 0 | D8: =B8*'Percentuais por Fase'!$B$1*'Percentuais por Fase'!$B$8 -> 0 | E8: =B8*'Percentuais por Fase'!$B$1*'Percentuais por Fase'!$B$9 -> 0 | F8: =B8*'Percentuais por Fase'!$B$1*'Percentuais por Fase'!$B$10 -> 0 | G8: =B8*'Percentuais por Fase'!$B$1*'Percentuais por Fase'!$B$11 -> 0 | H8: =B8*'Percentuais por Fase'!$B$1*'Percentuais por Fase'!$B$12 -> 0 | I8: =SUM(C8:H8) -> 0
C9: =B9*'Percentuais por Fase'!$B$1*'Percentuais por Fase'!$B$7 -> 0 | D9: =B9*'Percentuais por Fase'!$B$1*'Percentuais por Fase'!$B$8 -> 0 | E9: =B9*'Percentuais por Fase'!$B$1*'Percentuais por Fase'!$B$9 -> 0 | F9: =B9*'Percentuais por Fase'!$B$1*'Percentuais por Fase'!$B$10 -> 0 | G9: =B9*'Percentuais por Fase'!$B$1*'Percentuais por Fase'!$B$11 -> 0 | H9: =B9*'Percentuais por Fase'!$B$1*'Percentuais por Fase'!$B$12 -> 0 | I9: =SUM(C9:H9) -> 0
C10: =B10*'Percentuais por Fase'!$B$1*'Percentuais por Fase'!$B$7 -> 0 | D10: =B10*'Percentuais por Fase'!$B$1*'Percentuais por Fase'!$B$8 -> 0 | E10: =B10*'Percentuais por Fase'!$B$1*'Percentuais por Fase'!$B$9 -> 0 | F10: =B10*'Percentuais por Fase'!$B$1*'Percentuais por Fase'!$B$10 -> 0 | G10: =B10*'Percentuais por Fase'!$B$1*'Percentuais por Fase'!$B$11 -> 0 | H10: =B10*'Percentuais por Fase'!$B$1*'Percentuais por Fase'!$B$12 -> 0 | I10: =SUM(C10:H10) -> 0
C11: =B11*'Percentuais por Fase'!$B$1*'Percentuais por Fase'!$B$7 -> 0 | D11: =B11*'Percentuais por Fase'!$B$1*'Percentuais por Fase'!$B$8 -> 0 | E11: =B11*'Percentuais por Fase'!$B$1*'Percentuais por Fase'!$B$9 -> 0 | F11: =B11*'Percentuais por Fase'!$B$1*'Percentuais por Fase'!$B$10 -> 0 | G11: =B11*'Percentuais por Fase'!$B$1*'Percentuais por Fase'!$B$11 -> 0 | H11: =B11*'Percentuais por Fase'!$B$1*'Percentuais por Fase'!$B$12 -> 0 | I11: =SUM(C11:H11) -> 0
C12: =B12*'Percentuais por Fase'!$B$1*'Percentuais por Fase'!$B$7 -> 0 | D12: =B12*'Percentuais por Fase'!$B$1*'Percentuais por Fase'!$B$8 -> 0 | E12: =B12*'Percentuais por Fase'!$B$1*'Percentuais por Fase'!$B$9 -> 0 | F12: =B12*'Percentuais por Fase'!$B$1*'Percentuais por Fase'!$B$10 -> 0 | G12: =B12*'Percentuais por Fase'!$B$1*'Percentuais por Fase'!$B$11 -> 0 | H12: =B12*'Percentuais por Fase'!$B$1*'Percentuais por Fase'!$B$12 -> 0 | I12: =SUM(C12:H12) -> 0
C13: =B13*'Percentuais por Fase'!$B$1*'Percentuais por Fase'!$B$7 -> 0 | D13: =B13*'Percentuais por Fase'!$B$1*'Percentuais por Fase'!$B$8 -> 0 | E13: =B13*'Percentuais por Fase'!$B$1*'Percentuais por Fase'!$B$9 -> 0 | F13: =B13*'Percentuais por Fase'!$B$1*'Percentuais por Fase'!$B$10 -> 0 | G13: =B13*'Percentuais por Fase'!$B$1*'Percentuais por Fase'!$B$11 -> 0 | H13: =B13*'Percentuais por Fase'!$B$1*'Percentuais por Fase'!$B$12 -> 0 | I13: =SUM(C13:H13) -> 0
C14: =B14*'Percentuais por Fase'!$B$1*'Percentuais por Fase'!$B$7 -> 0 | D14: =B14*'Percentuais por Fase'!$B$1*'Percentuais por Fase'!$B$8 -> 0 | E14: =B14*'Percentuais por Fase'!$B$1*'Percentuais por Fase'!$B$9 -> 0 | F14: =B14*'Percentuais por Fase'!$B$1*'Percentuais por Fase'!$B$10 -> 0 | G14: =B14*'Percentuais por Fase'!$B$1*'Percentuais por Fase'!$B$11 -> 0 | H14: =B14*'Percentuais por Fase'!$B$1*'Percentuais por Fase'!$B$12 -> 0 | I14: =SUM(C14:H14) -> 0
C15: =B15*'Percentuais por Fase'!$B$1*'Percentuais por Fase'!$B$7 -> 0 | D15: =B15*'Percentuais por Fase'!$B$1*'Percentuais por Fase'!$B$8 -> 0 | E15: =B15*'Percentuais por Fase'!$B$1*'Percentuais por Fase'!$B$9 -> 0 | F15: =B15*'Percentuais por Fase'!$B$1*'Percentuais por Fase'!$B$10 -> 0 | G15: =B15*'Percentuais por Fase'!$B$1*'Percentuais por Fase'!$B$11 -> 0 | H15: =B15*'Percentuais por Fase'!$B$1*'Percentuais por Fase'!$B$12 -> 0 | I15: =SUM(C15:H15) -> 0
... C20: =B20*'Percentuais por Fase'!$B$1*'Percentuais por Fase'!$B$7 -> 0 | D20: =B20*'Percentuais por Fase'!$B$1*'Percentuais por Fase'!$B$8 -> 0 | E20: =B20*'Percentuais por Fase'!$B$1*'Percentuais por Fase'!$B$9 -> 0 | F20: =B20*'Percentuais por Fase'!$B$1*'Percentuais por Fase'!$B$10 -> 0 | G20: =B20*'Percentuais por Fase'!$B$1*'Percentuais por Fase'!$B$11 -> 0 | H20: =B20*'Percentuais por Fase'!$B$1*'Percentuais por Fase'!$B$12 -> 0 | I20: =SUM(C20:H20) -> 0

Sheet Custos
A1: Atividade | B1: Valor/Hora
A2: Gestão | B2: 83.33
A3: Análise | B3: 41.67
A4: Desenvolvimento | B4: 29.76
A5: Testes | B5: 23.81
A6: Implantação | B6: 29.76
A7: Treinamento | B7: 29.76
A9: Atividade | B9: Horas | C9: Total
A10: Gestão | B10: ='Percentuais por Fase'!C7 -> 0 | C10: =B10*B2 -> 0
A11: Análise | B11: ='Percentuais por Fase'!C8 -> 0 | C11: =B11*B3 -> 0
A12: Desenvolvimento | B12: ='Percentuais por Fase'!C9 -> 0 | C12: =B12*B4 -> 0
A13: Testes | B13: ='Percentuais por Fase'!C10 -> 0 | C13: =B13*B5 -> 0
A14: Implantação | B14: ='Percentuais por Fase'!C11 -> 0 | C14: =B14*B6 -> 0
A15: Treinamento | B15: ='Percentuais por Fase'!C12 -> 0 | C15: =B15*B7 -> 0
A16: Total | B16: =SUM(B10:B15) -> 0 | C16: =SUM(C10:C15) -> 0

Sheet Aquisições
A1: Descrição | B1: Quantidade | C1: Valor | D1: Total
D2: =B2*C2 -> 0

Sheet Resumo dos Custos
A1: Custos com homem / hora | B1: =Custos!C16 -> 0
A2: Custos com aquisições | B2: =SUM(Aquisições!D2:D126) -> 0
A3: Total | B3: =SUM(B1:B2) -> 0
